BEGIN:VCALENDAR
VERSION:2.0
PRODID:-//RIGHTHERE//CALENDARIZE IT V3.2//EN
BEGIN:VTIMEZONE
TZID:America/Los_Angeles
X-MICROSOFT-CDO-TZID:13
BEGIN:STANDARD
DTSTART:20251102T090000
TZOFFSETFROM:-0700
TZOFFSETTO:-0800
TZNAME:PST
END:STANDARD
BEGIN:DAYLIGHT
DTSTART:20260308T100000
TZOFFSETFROM:-0800
TZOFFSETTO:-0700
TZNAME:PDT
END:DAYLIGHT
BEGIN:STANDARD
DTSTART:20261101T090000
TZOFFSETFROM:-0700
TZOFFSETTO:-0800
TZNAME:PST
END:STANDARD
END:VTIMEZONE
BEGIN:VEVENT
UID:14450-events@jlskmstraining.com
DTSTART;TZID=America/Los_Angeles:20251023T160000
DTEND;TZID=America/Los_Angeles:20251023T180000
DTSTAMP;TZID=America/Los_Angeles:20251010T124018
SUMMARY:The Realtor’s Edge: Mastering Social Media for Real Estate
DESCRIPTION:You're Invited!\n\n<strong>The Realtor's Edge: Mastering Social
 Media for Real Estate</strong> <strong>Hosted by the owners: Kelly Le and 
  Sean Noche-Schultz</strong> from Do More Media.\n\nThis event will be hel
   d at the <strong>JLS Kent North Office</strong> from <strong>4pm-6pm</st
    rong> on <strong>October 23rd</strong>. There will be happy hour drinks
     to accommodate the event.\n\n<strong>This event will feature:</strong>
      \n\n📲 Practical tips and to boost your online presence\n\n📈 Str
       ategies to turn your social media into a powerful tool\n\n&nbsp\;\n\
        nPlease <strong>RSVP below</strong> or contact our office for more 
         info.\n\n<strong>John L. Scott Kent North</strong>\n\n<strong>253.
          852.9200</strong>\n\n<strong><a id=^'menurjt^' class=^'fui-Link _
           __1q1shib f2hkw1w f3rmtva f1ewtqcl fyind8e f1k6fduh f1w7gpdv fk6
            fouc fjoy568 figsok6 f1s184ao f1mk8lai fnbmjn9 f1o700av f13mvf3
             6 f1cmlufx f9n3di6 f1ids18y f1tx3yz7 f1deo86v f1eh06m1 f1iescv
              h fhgqx19 f1olyrje f1p93eir f1nev41a f1h8hb77 f1lqvz6u f10aw7
               5t fsle3fq f17ae5zn^' title=^'mailto:kninfo@johnlscott.com^'
                href=^'mailto:KNINFO@johnlscott.com^' target=^'_blank^' rel
                 =^'noreferrer noopener^' aria-label=^'Link KNINFO@johnlsco
                  tt.com^'>KNINFO@johnlscott.com</a></strong>
URL:https://jlskmstraining.com/event/the-realtors-edge-mastering-social-med
 ia-for-real-estate/
ORGANIZER;CN=Kent Office Training:
LOCATION:https://www.google.com/maps/place/20829+72nd+Ave+S+Ste%23+800\,+Ke
 nt\,+WA+98032/@47.4158583\,-122.2484189\,17z/data=!3m1!4b1!4m5!3m4!1s0x549
  05c648947b143:0x53b87fcdcece7534!8m2!3d47.4158583!4d-122.2462302
END:VEVENT
END:VCALENDAR